BEGIN:VCALENDAR
METHOD:PUBLISH
VERSION:2.0
CALSCALE:GREGORIAN
PRODID:-//NONSGML WPForms//NONSGML Sugar Calendar Feeds v3.11.0//EN
X-WR-CALNAME:ON HIATUS: Online Chair Yoga
X-WR-CALDESC:Healing Within Acupuncture &amp\; Wellness Studio
X-WR-TIMEZONE:America/Chicago
BEGIN:VTIMEZONE
TZID:America/Chicago
BEGIN:STANDARD
TZOFFSETFROM:-0500
TZOFFSETTO:-0600
DTSTART:20251102T070000
TZNAME:CST
END:STANDARD
END:VTIMEZONE
BEGIN:VTIMEZONE
TZID:America/Chicago
BEGIN:STANDARD
TZOFFSETFROM:-0500
TZOFFSETTO:-0600
DTSTART:20251102T070000
TZNAME:CST
END:STANDARD
END:VTIMEZONE
BEGIN:VEVENT
SUMMARY:ON HIATUS: Online Chair Yoga
DESCRIPTION:REGISTER HERE | Instructor: Liz Stoeckmann | This class is a
 ppropriate for those who are wheelchair bound\, are recovering from an i
 njury/health event\, have balance issues\, or just need a safe place to 
 start a low-impact movement practice. No experience or equipment needed 
 to join this ongoing online class\, just a chair. Please register to rec
 eive the link.
URL;VALUE=URI:https://www.healingwithinacupuncture.com/events/chair-yoga
 -online-2-2-5/
UID:urn:uuid:7b65d090-c0c8-4505-a811-e6db0543f12f
STATUS:CONFIRMED
ORGANIZER:
DTSTAMP:20260423T164358Z
DTSTART;TZID=America/Chicago:20260216T160000
DTEND;TZID=America/Chicago:20260216T170000
END:VEVENT
END:VCALENDAR