BEGIN:VCALENDAR
METHOD:PUBLISH
VERSION:2.0
CALSCALE:GREGORIAN
PRODID:-//NONSGML WPForms//NONSGML Sugar Calendar Feeds v3.11.0//EN
X-WR-CALNAME:Continuing Mixed-Levels Yoga
X-WR-CALDESC:Healing Within Acupuncture &amp\; Wellness Studio
X-WR-TIMEZONE:America/Chicago
BEGIN:VTIMEZONE
TZID:America/Chicago
BEGIN:STANDARD
TZOFFSETFROM:-0500
TZOFFSETTO:-0600
DTSTART:20251102T070000
TZNAME:CST
END:STANDARD
END:VTIMEZONE
BEGIN:VTIMEZONE
TZID:America/Chicago
BEGIN:STANDARD
TZOFFSETFROM:-0500
TZOFFSETTO:-0600
DTSTART:20251102T070000
TZNAME:CST
END:STANDARD
END:VTIMEZONE
BEGIN:VEVENT
SUMMARY:Continuing Mixed-Levels Yoga
DESCRIPTION:REGISTER HERE | Level 2: Some experience is helpful but all 
 are welcome. Ongoing Hatha Yoga classes incorporate movement\, breathing
  techniques\, guided rest and meditation. Instructor: Marilyn Calver.
URL;VALUE=URI:https://www.healingwithinacupuncture.com/events/continuing
 -mixed-levels-yoga-3/
UID:urn:uuid:8ed321fb-ca84-4606-acf7-e37966a6e058
STATUS:CONFIRMED
ORGANIZER:
DTSTAMP:20260423T164326Z
DTSTART;TZID=America/Chicago:20251204T093000
DTEND;TZID=America/Chicago:20251204T104500
END:VEVENT
END:VCALENDAR