BEGIN:VCALENDAR
METHOD:PUBLISH
VERSION:2.0
CALSCALE:GREGORIAN
PRODID:-//NONSGML WPForms//NONSGML Sugar Calendar Feeds v3.11.0//EN
X-WR-CALNAME:EXTRA! Indoor tai chi
X-WR-CALDESC:Healing Within Acupuncture &amp\; Wellness Studio
X-WR-TIMEZONE:America/Chicago
BEGIN:VTIMEZONE
TZID:America/Chicago
BEGIN:STANDARD
TZOFFSETFROM:-0500
TZOFFSETTO:-0600
DTSTART:20251102T070000
TZNAME:CST
END:STANDARD
BEGIN:DAYLIGHT
TZOFFSETFROM:-0600
TZOFFSETTO:-0500
DTSTART:20260308T080000
TZNAME:CDT
END:DAYLIGHT
END:VTIMEZONE
BEGIN:VTIMEZONE
TZID:America/Chicago
BEGIN:STANDARD
TZOFFSETFROM:-0500
TZOFFSETTO:-0600
DTSTART:20251102T070000
TZNAME:CST
END:STANDARD
BEGIN:DAYLIGHT
TZOFFSETFROM:-0600
TZOFFSETTO:-0500
DTSTART:20260308T080000
TZNAME:CDT
END:DAYLIGHT
END:VTIMEZONE
BEGIN:VEVENT
SUMMARY:EXTRA! Indoor tai chi
DESCRIPTION:BONUS EDITION: Sherry Strand\, RN\, is adding an extra indoo
 r practice this month. The following week's practice on April 27th will 
 conclude the Monday evening in-studio tai chi practices for the season.Â
   In-studio tai chi practices will return in the winter.Â This is an ong
 oing sliding-scale practice group for anyone with previous experience wi
 th the Yang-24 Form.
URL;VALUE=URI:https://www.healingwithinacupuncture.com/events/extra-indo
 or-tai-chi/
UID:urn:uuid:711496eb-2d3e-4ad9-b63c-b5086db02623
STATUS:CONFIRMED
ORGANIZER:
DTSTAMP:20260423T134426Z
DTSTART;TZID=America/Chicago:20260420T170000
DTEND;TZID=America/Chicago:20260420T190000
END:VEVENT
END:VCALENDAR