BEGIN:VCALENDAR
METHOD:PUBLISH
VERSION:2.0
CALSCALE:GREGORIAN
PRODID:-//NONSGML WPForms//NONSGML Sugar Calendar Feeds v3.11.0//EN
X-WR-CALNAME:ONLINE: Gentle Yoga
X-WR-CALDESC:Healing Within Acupuncture &amp\; Wellness Studio
X-WR-TIMEZONE:America/Chicago
BEGIN:VTIMEZONE
TZID:America/Chicago
BEGIN:STANDARD
TZOFFSETFROM:-0500
TZOFFSETTO:-0600
DTSTART:20251102T070000
TZNAME:CST
END:STANDARD
END:VTIMEZONE
BEGIN:VTIMEZONE
TZID:America/Chicago
BEGIN:STANDARD
TZOFFSETFROM:-0500
TZOFFSETTO:-0600
DTSTART:20251102T070000
TZNAME:CST
END:STANDARD
END:VTIMEZONE
BEGIN:VEVENT
SUMMARY:ONLINE: Gentle Yoga
DESCRIPTION:REGISTER HERE | Instructor: Marilyn Calver | Levels 1-3: New
  to yoga? Start here! Students of any experience level are welcome. Ongo
 ing Hatha Yoga classes incorporate movement\, breathing techniques\, gui
 ded rest and meditation.\n\nIf you prefer to practice/pause/repeat on yo
 ur own time\, recordings are available for either 7 days or permanent do
 wnload. Email Marilyn directly for details. Please sign up at least a fe
 w hours in advance. You will receive a Zoom link at least 30 minutes bef
 ore class begins.
URL;VALUE=URI:https://www.healingwithinacupuncture.com/events/gentle-yog
 a-2-2/
UID:urn:uuid:d75f9a30-8fe2-494b-b595-eae8e35258bf
STATUS:CONFIRMED
ORGANIZER:
DTSTAMP:20260423T152218Z
DTSTART;TZID=America/Chicago:20251224T093000
DTEND;TZID=America/Chicago:20251224T103000
END:VEVENT
END:VCALENDAR