BEGIN:VCALENDAR
METHOD:PUBLISH
VERSION:2.0
CALSCALE:GREGORIAN
PRODID:-//NONSGML WPForms//NONSGML Sugar Calendar Feeds v3.11.0//EN
X-WR-CALNAME:Girls Just Wanna Have Fun
X-WR-CALDESC:Healing Within Acupuncture &amp\; Wellness Studio
X-WR-TIMEZONE:America/Chicago
BEGIN:VTIMEZONE
TZID:America/Chicago
BEGIN:STANDARD
TZOFFSETFROM:-0500
TZOFFSETTO:-0600
DTSTART:20251102T070000
TZNAME:CST
END:STANDARD
BEGIN:DAYLIGHT
TZOFFSETFROM:-0600
TZOFFSETTO:-0500
DTSTART:20260308T080000
TZNAME:CDT
END:DAYLIGHT
END:VTIMEZONE
BEGIN:VTIMEZONE
TZID:America/Chicago
BEGIN:STANDARD
TZOFFSETFROM:-0500
TZOFFSETTO:-0600
DTSTART:20251102T070000
TZNAME:CST
END:STANDARD
BEGIN:DAYLIGHT
TZOFFSETFROM:-0600
TZOFFSETTO:-0500
DTSTART:20260308T080000
TZNAME:CDT
END:DAYLIGHT
END:VTIMEZONE
BEGIN:VEVENT
SUMMARY:Girls Just Wanna Have Fun
DESCRIPTION:Our next Dance Party Fundraiser will practice the moves to t
 he iconic Cyndi Lauper hit. We’ll also run through Saturday Night Feve
 r and Dancing Queen in preparation for Hudson Pride in June. Suggested d
 onation is $15-20\, with 100 percent going to support our activism and c
 ommunity support work. RSVP HERE.
URL;VALUE=URI:https://www.healingwithinacupuncture.com/events/girls-just
 -wanna-have-fun/
UID:urn:uuid:9498a497-041c-44e2-a7c2-45d94754515b
STATUS:CONFIRMED
ORGANIZER:
DTSTAMP:20260423T162850Z
DTSTART;TZID=America/Chicago:20260322T140000
DTEND;TZID=America/Chicago:20260322T150000
END:VEVENT
END:VCALENDAR