BEGIN:VCALENDAR
METHOD:PUBLISH
VERSION:2.0
CALSCALE:GREGORIAN
PRODID:-//NONSGML WPForms//NONSGML Sugar Calendar Feeds v3.11.0//EN
X-WR-CALNAME:Indoor Tai Chi
X-WR-CALDESC:Healing Within Acupuncture &amp\; Wellness Studio
X-WR-TIMEZONE:America/Chicago
BEGIN:VTIMEZONE
TZID:America/Chicago
BEGIN:STANDARD
TZOFFSETFROM:-0500
TZOFFSETTO:-0600
DTSTART:20251102T070000
TZNAME:CST
END:STANDARD
BEGIN:DAYLIGHT
TZOFFSETFROM:-0600
TZOFFSETTO:-0500
DTSTART:20260308T080000
TZNAME:CDT
END:DAYLIGHT
END:VTIMEZONE
BEGIN:VTIMEZONE
TZID:America/Chicago
BEGIN:STANDARD
TZOFFSETFROM:-0500
TZOFFSETTO:-0600
DTSTART:20251102T070000
TZNAME:CST
END:STANDARD
BEGIN:DAYLIGHT
TZOFFSETFROM:-0600
TZOFFSETTO:-0500
DTSTART:20260308T080000
TZNAME:CDT
END:DAYLIGHT
END:VTIMEZONE
BEGIN:VEVENT
SUMMARY:Indoor Tai Chi
DESCRIPTION:NOTE: This session concludes the Monday evening in-studio ta
 i chi practices for the season.  In-studio tai chi practices will retur
 n next winter.\n\nFINAL INDOOR PRACTICE THIS WINTER\, 6-7pm | Led by She
 rry Strand\, RN\, at the Stillwater studio. These ongoing sliding-scale 
 practice groups are for anyone with previous experience in the Tai Chi Y
 ang 24 Form\; those new to Tai Chi are welcome to follow along. Sliding-
 scale fee is $10-$20/practice\; place  cash or check in the brown mailb
 ox by the front desk. No registration needed!\n\n&nbsp\;
URL;VALUE=URI:https://www.healingwithinacupuncture.com/events/indoor-tai
 -chi-2/
UID:urn:uuid:a3134d00-303c-4116-9d19-0e8e63691df6
STATUS:CONFIRMED
ORGANIZER:
DTSTAMP:20260423T150310Z
DTSTART;TZID=America/Chicago:20260427T180000
DTEND;TZID=America/Chicago:20260427T190000
END:VEVENT
END:VCALENDAR