BEGIN:VCALENDAR
METHOD:PUBLISH
VERSION:2.0
CALSCALE:GREGORIAN
PRODID:-//NONSGML WPForms//NONSGML Sugar Calendar Feeds v3.11.0//EN
X-WR-CALNAME:Sound immersion
X-WR-CALDESC:Healing Within Acupuncture &amp\; Wellness Studio
X-WR-TIMEZONE:America/Chicago
BEGIN:VTIMEZONE
TZID:America/Chicago
BEGIN:STANDARD
TZOFFSETFROM:-0500
TZOFFSETTO:-0600
DTSTART:20251102T070000
TZNAME:CST
END:STANDARD
END:VTIMEZONE
BEGIN:VTIMEZONE
TZID:America/Chicago
BEGIN:STANDARD
TZOFFSETFROM:-0500
TZOFFSETTO:-0600
DTSTART:20251102T070000
TZNAME:CST
END:STANDARD
END:VTIMEZONE
BEGIN:VEVENT
SUMMARY:Sound immersion
DESCRIPTION:REGISTER HERE |  Join Sherry Strand\, RN\, to experience th
 e healing and restorative benefits of movement\, rhythm\, sound\, and vi
 bration. After some movement and slowing down\, allow yourself time to f
 ully immerse in the healing effects of signing bowls\, gong\, hand drums
 \, tongue drum\, chimes\, and more to create deep relaxation and restori
 ng balance. Bring a mat\, blanket\, pillow\, and anything else you need 
 to be comfortable. Cost: $25.
URL;VALUE=URI:https://www.healingwithinacupuncture.com/events/monthly-so
 und-immersion/
UID:urn:uuid:352be1fe-86e8-486e-b3d2-b56e18edbbcc
STATUS:CONFIRMED
ORGANIZER:
DTSTAMP:20260423T152117Z
DTSTART;TZID=America/Chicago:20260213T190000
DTEND;TZID=America/Chicago:20260213T200000
END:VEVENT
END:VCALENDAR