BEGIN:VCALENDAR
METHOD:PUBLISH
VERSION:2.0
CALSCALE:GREGORIAN
PRODID:-//NONSGML WPForms//NONSGML Sugar Calendar Feeds v3.11.0//EN
X-WR-CALNAME:INDOORS: Tai Chi/Solstice event
X-WR-CALDESC:Healing Within Acupuncture &amp\; Wellness Studio
X-WR-TIMEZONE:America/Chicago
BEGIN:VTIMEZONE
TZID:America/Chicago
BEGIN:STANDARD
TZOFFSETFROM:-0500
TZOFFSETTO:-0600
DTSTART:20251102T070000
TZNAME:CST
END:STANDARD
END:VTIMEZONE
BEGIN:VTIMEZONE
TZID:America/Chicago
BEGIN:STANDARD
TZOFFSETFROM:-0500
TZOFFSETTO:-0600
DTSTART:20251102T070000
TZNAME:CST
END:STANDARD
END:VTIMEZONE
BEGIN:VEVENT
SUMMARY:INDOORS: Tai Chi/Solstice event
DESCRIPTION:Winter Solstice/holiday celebration! Due to frigid temps and
  windchill\, our Winter Solstice Gathering moves in-studio. Tai Chi is a
 t 3pm\, or come at 4pm for the gathering. Bring treats\, snacks\, or som
 ething to drink if you’d like.  All are welcome to celebrate the long
 est night with us!
URL;VALUE=URI:https://www.healingwithinacupuncture.com/events/outdoor-ta
 i-chi-2/
UID:urn:uuid:7630e009-4611-45ba-b4c6-21c61efefff3
STATUS:CONFIRMED
ORGANIZER:
DTSTAMP:20260423T221018Z
DTSTART;TZID=America/Chicago:20251220T150000
DTEND;TZID=America/Chicago:20251220T170000
LOCATION:515 2nd St N
END:VEVENT
END:VCALENDAR