BEGIN:VCALENDAR
METHOD:PUBLISH
VERSION:2.0
CALSCALE:GREGORIAN
PRODID:-//NONSGML WPForms//NONSGML Sugar Calendar Feeds v3.11.0//EN
X-WR-CALNAME:Indoor Tai Chi
X-WR-CALDESC:Healing Within Acupuncture &amp\; Wellness Studio
X-WR-TIMEZONE:America/Chicago
BEGIN:VTIMEZONE
TZID:America/Chicago
BEGIN:STANDARD
TZOFFSETFROM:-0500
TZOFFSETTO:-0600
DTSTART:20251102T070000
TZNAME:CST
END:STANDARD
END:VTIMEZONE
BEGIN:VTIMEZONE
TZID:America/Chicago
BEGIN:STANDARD
TZOFFSETFROM:-0500
TZOFFSETTO:-0600
DTSTART:20251102T070000
TZNAME:CST
END:STANDARD
END:VTIMEZONE
BEGIN:VEVENT
SUMMARY:Indoor Tai Chi
DESCRIPTION:Due to cold temperatures forecasted for this weekend\, we're
  moving our outdoor practice into the studio! Join us at 4pm at 904 S 4t
 h St #200\, Stillwater.\n\nWeekly outdoor practice has moved to Stillwat
 er’s Pioneer Park for the winter. Wear comfortable clothing you can mo
 ve in\, but dress for the weather\, with layers\, hats\, mittens and war
 m boots. We cancel practice if it’s too cold or windy\, so check our F
 acebook page for frequent updates. Aimee\, Sherry and Will start with Qi
 Gong warmups of the 8 Brocades\, then a few sets of the Yang 24 Form. Al
 l are welcome to follow along or just watch. This practice is by donatio
 n only\; please bring something for the donation jar or wood/kindling fo
 r the fire.
URL;VALUE=URI:https://www.healingwithinacupuncture.com/events/outdoor-ta
 i-chi-3/
UID:urn:uuid:f7cb6ca1-9022-44b3-bb17-c3b80b33cb97
STATUS:CONFIRMED
ORGANIZER:
DTSTAMP:20260423T192707Z
DTSTART;TZID=America/Chicago:20251206T150000
DTEND;TZID=America/Chicago:20251206T160000
LOCATION:515 2nd St N
END:VEVENT
END:VCALENDAR