BEGIN:VCALENDAR
METHOD:PUBLISH
VERSION:2.0
CALSCALE:GREGORIAN
PRODID:-//NONSGML WPForms//NONSGML Sugar Calendar Feeds v3.11.0//EN
X-WR-CALNAME:Indoor Tai Chi
X-WR-CALDESC:Healing Within Acupuncture &amp\; Wellness Studio
X-WR-TIMEZONE:America/Chicago
BEGIN:VTIMEZONE
TZID:America/Chicago
BEGIN:STANDARD
TZOFFSETFROM:-0500
TZOFFSETTO:-0600
DTSTART:20251102T070000
TZNAME:CST
END:STANDARD
END:VTIMEZONE
BEGIN:VTIMEZONE
TZID:America/Chicago
BEGIN:STANDARD
TZOFFSETFROM:-0500
TZOFFSETTO:-0600
DTSTART:20251102T070000
TZNAME:CST
END:STANDARD
END:VTIMEZONE
BEGIN:VEVENT
SUMMARY:Indoor Tai Chi
DESCRIPTION:Due to the extreme cold forecasted for this weekend\, we’r
 e moving our outdoor practice into the studio again! Join us at 4pm at 9
 04 S 4th St #200\, Stillwater.\n\nWeekly outdoor practice has moved to S
 tillwater’s Pioneer Park for the winter. Wear comfortable clothing you
  can move in\, but dress for the weather\, with layers\, hats\, mittens 
 and warm boots. We cancel practice if it’s too cold or windy\, so chec
 k our Facebook page for frequent updates. Aimee\, Sherry and Will start 
 with QiGong warmups of the 8 Brocades\, then a few sets of the Yang 24 F
 orm. All are welcome to follow along or just watch. This practice is by 
 donation only\; please bring something for the donation jar or wood/kind
 ling for the fire.
URL;VALUE=URI:https://www.healingwithinacupuncture.com/events/outdoor-ta
 i-chi-4/
UID:urn:uuid:dff4c7dd-8201-4ebe-9e06-0807146bcf49
STATUS:CONFIRMED
ORGANIZER:
DTSTAMP:20260423T152341Z
DTSTART;TZID=America/Chicago:20251213T150000
DTEND;TZID=America/Chicago:20251213T160000
LOCATION:515 2nd St N
END:VEVENT
END:VCALENDAR