BEGIN:VCALENDAR
METHOD:PUBLISH
VERSION:2.0
CALSCALE:GREGORIAN
PRODID:-//NONSGML WPForms//NONSGML Sugar Calendar Feeds v3.11.0//EN
X-WR-CALNAME:INDOORS! Tai Chi
X-WR-CALDESC:Healing Within Acupuncture &amp\; Wellness Studio
X-WR-TIMEZONE:America/Chicago
BEGIN:VTIMEZONE
TZID:America/Chicago
BEGIN:STANDARD
TZOFFSETFROM:-0500
TZOFFSETTO:-0600
DTSTART:20251102T070000
TZNAME:CST
END:STANDARD
END:VTIMEZONE
BEGIN:VTIMEZONE
TZID:America/Chicago
BEGIN:STANDARD
TZOFFSETFROM:-0500
TZOFFSETTO:-0600
DTSTART:20251102T070000
TZNAME:CST
END:STANDARD
END:VTIMEZONE
BEGIN:VEVENT
SUMMARY:INDOORS! Tai Chi
DESCRIPTION:MOVING IN-STUDIO JAN. 10: Aimee's minimum temp is 25 degrees
 \, and we're not expected to get there today. Join us inside!\n\nWeekly 
 outdoor practice has moved to Stillwaterâ€™s Pioneer Park for the winter
 . Wear comfortable clothing you can move in\, but dress for the weather\
 , with layers\, hats\, mittens and warm boots. We cancel practice if itâ
 €™s too cold or windy\, so check our Facebook page for frequent updates.
  Aimee\, Sherry and Will start with QiGong warmups of the 8 Brocades\, t
 hen a few sets of the Yang 24 Form. All are welcome to follow along or j
 ust watch. This practice is by donation only\; please bring something fo
 r the donation jar or wood/kindling for the fire.
URL;VALUE=URI:https://www.healingwithinacupuncture.com/events/outdoor-ta
 i-chi-5/
UID:urn:uuid:1cdbd819-2c69-4fb2-98e7-6f13ac0b90fa
STATUS:CONFIRMED
ORGANIZER:
DTSTAMP:20260423T180810Z
DTSTART;TZID=America/Chicago:20260110T150000
DTEND;TZID=America/Chicago:20260110T160000
LOCATION:515 2nd St N
END:VEVENT
END:VCALENDAR