BEGIN:VCALENDAR
METHOD:PUBLISH
VERSION:2.0
CALSCALE:GREGORIAN
PRODID:-//NONSGML WPForms//NONSGML Sugar Calendar Feeds v3.11.0//EN
X-WR-CALNAME:INDOORS THIS WEEK! Outdoor Tai Chi
X-WR-CALDESC:Healing Within Acupuncture &amp\; Wellness Studio
X-WR-TIMEZONE:America/Chicago
BEGIN:VTIMEZONE
TZID:America/Chicago
BEGIN:STANDARD
TZOFFSETFROM:-0500
TZOFFSETTO:-0600
DTSTART:20251102T070000
TZNAME:CST
END:STANDARD
END:VTIMEZONE
BEGIN:VTIMEZONE
TZID:America/Chicago
BEGIN:STANDARD
TZOFFSETFROM:-0500
TZOFFSETTO:-0600
DTSTART:20251102T070000
TZNAME:CST
END:STANDARD
END:VTIMEZONE
BEGIN:VEVENT
SUMMARY:INDOORS THIS WEEK! Outdoor Tai Chi
DESCRIPTION:Due to dangerously frigid temps\, we will practice tai chi i
 n-studio at 3pm.  Sherry also holds an in-studio practice at 6pm Monday
 \, Jan. 26.  All are welcome.\n\nWeekly outdoor practice has moved to S
 tillwater’s Pioneer Park for the winter. Wear comfortable clothing you
  can move in\, but dress for the weather\, with layers\, hats\, mittens 
 and warm boots. We cancel practice or move inside if it’s too cold or 
 windy\, so check our Facebook page for frequent updates. Aimee\, Sherry 
 and Will start with QiGong warmups of the 8 Brocades\, then a few sets o
 f the Yang 24 Form. All are welcome to follow along or just watch. This 
 practice is by donation only\; please bring something for the donation j
 ar or wood/kindling for the fire.
URL;VALUE=URI:https://www.healingwithinacupuncture.com/events/outdoor-ta
 i-chi-6/
UID:urn:uuid:92c9cd6f-1edc-4fe2-87f9-bf74cb22b09c
STATUS:CONFIRMED
ORGANIZER:
DTSTAMP:20260423T205214Z
DTSTART;TZID=America/Chicago:20260124T150000
DTEND;TZID=America/Chicago:20260124T160000
LOCATION:515 2nd St N
END:VEVENT
END:VCALENDAR