BEGIN:VCALENDAR
METHOD:PUBLISH
VERSION:2.0
CALSCALE:GREGORIAN
PRODID:-//NONSGML WPForms//NONSGML Sugar Calendar Feeds v3.11.0//EN
X-WR-CALNAME:Winter Tai Chi IN-STUDIO
X-WR-CALDESC:Healing Within Acupuncture &amp\; Wellness Studio
X-WR-TIMEZONE:America/Chicago
BEGIN:VTIMEZONE
TZID:America/Chicago
BEGIN:STANDARD
TZOFFSETFROM:-0500
TZOFFSETTO:-0600
DTSTART:20251102T070000
TZNAME:CST
END:STANDARD
END:VTIMEZONE
BEGIN:VTIMEZONE
TZID:America/Chicago
BEGIN:STANDARD
TZOFFSETFROM:-0500
TZOFFSETTO:-0600
DTSTART:20251102T070000
TZNAME:CST
END:STANDARD
END:VTIMEZONE
BEGIN:VEVENT
SUMMARY:Winter Tai Chi IN-STUDIO
DESCRIPTION:INDOORS THIS WEEK due to cold temps in the forecast! Join us
  at the studio for this by-donation tai chi session. We’ll also run th
 rough the Kung Fu Fan Form at the end\, so bring a fan if you have one!\
 n\nWeekly outdoor practice has moved to Stillwater’s Pioneer Park for 
 the winter. Wear comfortable clothing you can move in\, but dress for th
 e weather\, with layers\, hats\, mittens and warm boots. We move in-stud
 io or cancel practice if it’s too cold or windy\, so check our Faceboo
 k page for frequent updates. Aimee\, Sherry and Will start with QiGong w
 armups of the 8 Brocades\, then a few sets of the Yang 24 Form. All are 
 welcome to follow along or just watch. This practice is by donation only
 \; please bring something for the donation jar or wood/kindling for the 
 fire.
URL;VALUE=URI:https://www.healingwithinacupuncture.com/events/outdoor-ta
 i-chi-7-2/
UID:urn:uuid:c9db1197-c5f9-45db-9695-6e6d15dba5f9
STATUS:CONFIRMED
ORGANIZER:
DTSTAMP:20260423T163438Z
DTSTART;TZID=America/Chicago:20260221T150000
DTEND;TZID=America/Chicago:20260221T160000
LOCATION:515 2nd St N
END:VEVENT
END:VCALENDAR