BEGIN:VCALENDAR
METHOD:PUBLISH
VERSION:2.0
CALSCALE:GREGORIAN
PRODID:-//NONSGML WPForms//NONSGML Sugar Calendar Feeds v3.11.0//EN
X-WR-CALNAME:IN-STUDO: Winter Tai Chi
X-WR-CALDESC:Healing Within Acupuncture &amp\; Wellness Studio
X-WR-TIMEZONE:America/Chicago
BEGIN:VTIMEZONE
TZID:America/Chicago
BEGIN:STANDARD
TZOFFSETFROM:-0500
TZOFFSETTO:-0600
DTSTART:20251102T070000
TZNAME:CST
END:STANDARD
END:VTIMEZONE
BEGIN:VTIMEZONE
TZID:America/Chicago
BEGIN:STANDARD
TZOFFSETFROM:-0500
TZOFFSETTO:-0600
DTSTART:20251102T070000
TZNAME:CST
END:STANDARD
END:VTIMEZONE
BEGIN:VEVENT
SUMMARY:IN-STUDO: Winter Tai Chi
DESCRIPTION:Due to a snowy\, cold forecast\, we're moving inside the stu
 dio again this Saturday\, but we're hoping to get back outside on March 
 7!\n\nWeekly outdoor practice has moved to Stillwater’s Pioneer Park f
 or the winter. Wear comfortable clothing you can move in\, but dress for
  the weather\, with layers\, hats\, mittens and warm boots. We move in-s
 tudio or cancel practice if it’s too cold or windy\, so check our Face
 book page for frequent updates. Aimee\, Sherry and Will start with QiGon
 g warmups of the 8 Brocades\, then a few sets of the Yang 24 Form. All a
 re welcome to follow along or just watch. This practice is by donation o
 nly\; please bring something for the donation jar or wood/kindling for t
 he fire.
URL;VALUE=URI:https://www.healingwithinacupuncture.com/events/outdoor-ta
 i-chi-7-3/
UID:urn:uuid:bdcbd1ee-d025-4562-80e9-a0b93213d3ba
STATUS:CONFIRMED
ORGANIZER:
DTSTAMP:20260423T150843Z
DTSTART;TZID=America/Chicago:20260228T150000
DTEND;TZID=America/Chicago:20260228T160000
LOCATION:515 2nd St N
END:VEVENT
END:VCALENDAR