BEGIN:VCALENDAR
METHOD:PUBLISH
VERSION:2.0
CALSCALE:GREGORIAN
PRODID:-//NONSGML WPForms//NONSGML Sugar Calendar Feeds v3.11.0//EN
X-WR-CALNAME:INDOOR Tai Chi
X-WR-CALDESC:Healing Within Acupuncture &amp\; Wellness Studio
X-WR-TIMEZONE:America/Chicago
BEGIN:VTIMEZONE
TZID:America/Chicago
BEGIN:STANDARD
TZOFFSETFROM:-0500
TZOFFSETTO:-0600
DTSTART:20251102T070000
TZNAME:CST
END:STANDARD
BEGIN:DAYLIGHT
TZOFFSETFROM:-0600
TZOFFSETTO:-0500
DTSTART:20260308T080000
TZNAME:CDT
END:DAYLIGHT
END:VTIMEZONE
BEGIN:VTIMEZONE
TZID:America/Chicago
BEGIN:STANDARD
TZOFFSETFROM:-0500
TZOFFSETTO:-0600
DTSTART:20251102T070000
TZNAME:CST
END:STANDARD
BEGIN:DAYLIGHT
TZOFFSETFROM:-0600
TZOFFSETTO:-0500
DTSTART:20260308T080000
TZNAME:CDT
END:DAYLIGHT
END:VTIMEZONE
BEGIN:VEVENT
SUMMARY:INDOOR Tai Chi
DESCRIPTION:Winter just won't quit! Because of the cold\, snow and rain 
 in the forecast\, we're moving this week's practice to the cozy studio. 
 Spring will come soon!\n\nWeekly outdoor practice has moved to Stillwate
 r’s Pioneer Park for the winter. Wear comfortable clothing you can mov
 e in\, but dress for the weather\, with layers\, hats\, mittens and warm
  boots. We move in-studio or cancel practice if it’s too cold or windy
 \, so check our Facebook page for frequent updates. Aimee\, Sherry and W
 ill start with QiGong warmups of the 8 Brocades\, then a few sets of the
  Yang 24 Form. All are welcome to follow along or just watch. This pract
 ice is by donation only\; please bring something for the donation jar or
  wood/kindling for the fire.
URL;VALUE=URI:https://www.healingwithinacupuncture.com/events/outdoor-ta
 i-chi-7-6/
UID:urn:uuid:cc79da10-3bc6-42f0-83e9-9830502e02ae
STATUS:CONFIRMED
ORGANIZER:
DTSTAMP:20260423T152041Z
DTSTART;TZID=America/Chicago:20260404T150000
DTEND;TZID=America/Chicago:20260404T160000
LOCATION:515 2nd St N
END:VEVENT
END:VCALENDAR