BEGIN:VCALENDAR
METHOD:PUBLISH
VERSION:2.0
CALSCALE:GREGORIAN
PRODID:-//NONSGML WPForms//NONSGML Sugar Calendar Feeds v3.11.0//EN
X-WR-CALNAME:INSIDE THIS WEEK: Outdoor Tai Chi
X-WR-CALDESC:Healing Within Acupuncture &amp\; Wellness Studio
X-WR-TIMEZONE:America/Chicago
BEGIN:VTIMEZONE
TZID:America/Chicago
BEGIN:STANDARD
TZOFFSETFROM:-0500
TZOFFSETTO:-0600
DTSTART:20251102T070000
TZNAME:CST
END:STANDARD
BEGIN:DAYLIGHT
TZOFFSETFROM:-0600
TZOFFSETTO:-0500
DTSTART:20260308T080000
TZNAME:CDT
END:DAYLIGHT
END:VTIMEZONE
BEGIN:VTIMEZONE
TZID:America/Chicago
BEGIN:STANDARD
TZOFFSETFROM:-0500
TZOFFSETTO:-0600
DTSTART:20251102T070000
TZNAME:CST
END:STANDARD
BEGIN:DAYLIGHT
TZOFFSETFROM:-0600
TZOFFSETTO:-0500
DTSTART:20260308T080000
TZNAME:CDT
END:DAYLIGHT
END:VTIMEZONE
BEGIN:VEVENT
SUMMARY:INSIDE THIS WEEK: Outdoor Tai Chi
DESCRIPTION:We'll stay warm and dry in the studio this week for weekly p
 ractice. Winter really will go away soon\, and we'll be back at Lowell P
 ark after World Tai Chi/Qi Gong Day on April 24. \n\nWeekly outdoor pra
 ctice has moved to Stillwater’s Pioneer Park for the winter. Wear comf
 ortable clothing you can move in\, but dress for the weather\, with laye
 rs\, hats\, mittens and warm boots. We move in-studio or cancel practice
  if it’s too cold or windy\, so check our Facebook page for frequent u
 pdates. Aimee\, Sherry and Will start with QiGong warmups of the 8 Broca
 des\, then a few sets of the Yang 24 Form. All are welcome to follow alo
 ng or just watch. This practice is by donation only\; please bring somet
 hing for the donation jar or wood/kindling for the fire.
URL;VALUE=URI:https://www.healingwithinacupuncture.com/events/outdoor-ta
 i-chi-7-7/
UID:urn:uuid:7e86e26f-3ad9-40fa-83c5-7f51a9eddcc5
STATUS:CONFIRMED
ORGANIZER:
DTSTAMP:20260423T150944Z
DTSTART;TZID=America/Chicago:20260418T150000
DTEND;TZID=America/Chicago:20260418T160000
LOCATION:515 2nd St N
END:VEVENT
END:VCALENDAR