BEGIN:VCALENDAR
METHOD:PUBLISH
VERSION:2.0
CALSCALE:GREGORIAN
PRODID:-//NONSGML WPForms//NONSGML Sugar Calendar Feeds v3.11.0//EN
X-WR-CALNAME:Outdoor Tai Chi
X-WR-CALDESC:Healing Within Acupuncture &amp\; Wellness Studio
X-WR-TIMEZONE:America/Chicago
BEGIN:VTIMEZONE
TZID:America/Chicago
BEGIN:STANDARD
TZOFFSETFROM:-0500
TZOFFSETTO:-0600
DTSTART:20251102T070000
TZNAME:CST
END:STANDARD
END:VTIMEZONE
BEGIN:VTIMEZONE
TZID:America/Chicago
BEGIN:STANDARD
TZOFFSETFROM:-0500
TZOFFSETTO:-0600
DTSTART:20251102T070000
TZNAME:CST
END:STANDARD
END:VTIMEZONE
BEGIN:VEVENT
SUMMARY:Outdoor Tai Chi
DESCRIPTION:The weather is finally cooperating and we are back outdoors 
 for Tai Chi at Pioneer Park this week!  We’ll celebrate Lunar New Yea
 r and\, of course\, Valentine’s Day.  If you’d like\, bring food or
  drinks to share. Some traditional foods for the Lunar New Year include 
 dumplings\, noodles\, oranges\, and other citrus. We’re entering the y
 ear of the Yang Fire Horse\, so we need a nice bonfire. Bring firewood o
 r kindling if you have some to share. All are welcome to follow along or
  just hang out by the fire. This practice is by donation only\; please b
 ring something for the donation jar. Check our Facebook page for freque
 nt updates.
URL;VALUE=URI:https://www.healingwithinacupuncture.com/events/outdoor-ta
 i-chi-7/
UID:urn:uuid:6c30cdcd-93d8-4520-8f6f-6a2c3f630326
STATUS:CONFIRMED
ORGANIZER:
DTSTAMP:20260423T152341Z
DTSTART;TZID=America/Chicago:20260214T150000
DTEND;TZID=America/Chicago:20260214T160000
LOCATION:515 2nd St N
END:VEVENT
END:VCALENDAR