BEGIN:VCALENDAR
METHOD:PUBLISH
VERSION:2.0
CALSCALE:GREGORIAN
PRODID:-//NONSGML WPForms//NONSGML Sugar Calendar Feeds v3.11.0//EN
X-WR-CALNAME:Outdoor Tai Chi: Friendsgiving
X-WR-CALDESC:Healing Within Acupuncture &amp\; Wellness Studio
X-WR-TIMEZONE:America/Chicago
BEGIN:VTIMEZONE
TZID:America/Chicago
BEGIN:STANDARD
TZOFFSETFROM:-0500
TZOFFSETTO:-0600
DTSTART:20251102T070000
TZNAME:CST
END:STANDARD
END:VTIMEZONE
BEGIN:VTIMEZONE
TZID:America/Chicago
BEGIN:STANDARD
TZOFFSETFROM:-0500
TZOFFSETTO:-0600
DTSTART:20251102T070000
TZNAME:CST
END:STANDARD
END:VTIMEZONE
BEGIN:VEVENT
SUMMARY:Outdoor Tai Chi: Friendsgiving
DESCRIPTION:Friendsgiving celebration! Our outdoor winter tai chi practi
 ce season is dotted with several social gatherings. Bring food or drinks
  to share. We'll have a roaring fire going. Note the time\, 4-5pm!\n\nWe
 ekly outdoor practice has moved to Stillwater’s Pioneer Park for the w
 inter. Wear comfortable clothing you can move in\, but dress for the wea
 ther\, with layers\, hats\, mittens and warm boots. We cancel practice i
 f it’s too cold or windy\, so check our Facebook page for frequent upd
 ates. Aimee\, Sherry and Will start with QiGong warmups of the 8 Brocade
 s\, then a few sets of the Yang 24 Form. All are welcome to follow along
  or just watch. This practice is by donation only\; please bring somethi
 ng for the donation jar or wood/kindling for the fire.
URL;VALUE=URI:https://www.healingwithinacupuncture.com/events/outdoor-ta
 i-chi/
UID:urn:uuid:84d94831-5d91-4061-b811-ac7fe4344990
STATUS:CONFIRMED
ORGANIZER:
DTSTAMP:20260423T232652Z
DTSTART;TZID=America/Chicago:20251122T160000
DTEND;TZID=America/Chicago:20251122T170000
LOCATION:515 2nd St N
END:VEVENT
END:VCALENDAR