BEGIN:VCALENDAR
METHOD:PUBLISH
VERSION:2.0
CALSCALE:GREGORIAN
PRODID:-//NONSGML WPForms//NONSGML Sugar Calendar Feeds v3.11.0//EN
X-WR-CALNAME:FULL: Tradtional Bulgarian line dance
X-WR-CALDESC:Healing Within Acupuncture &amp\; Wellness Studio
X-WR-TIMEZONE:America/Chicago
BEGIN:VTIMEZONE
TZID:America/Chicago
BEGIN:STANDARD
TZOFFSETFROM:-0500
TZOFFSETTO:-0600
DTSTART:20251102T070000
TZNAME:CST
END:STANDARD
END:VTIMEZONE
BEGIN:VTIMEZONE
TZID:America/Chicago
BEGIN:STANDARD
TZOFFSETFROM:-0500
TZOFFSETTO:-0600
DTSTART:20251102T070000
TZNAME:CST
END:STANDARD
END:VTIMEZONE
BEGIN:VEVENT
SUMMARY:FULL: Tradtional Bulgarian line dance
DESCRIPTION:THIS CLASS IS FULL! Stay tune for our next joyful group danc
 e opportunity.\n\nMarlee and Niki (from Sofia\, Bulgaria) will help us k
 ick off our joyful community dance in 2026 as they lead us in a Bulgaria
 n celebration! RSVP at hello@healingwithinacupuncture.com.\nSuggested do
 nation is $10-$20 which in part funds our studio’s activism work. No d
 ance experience needed\, just a desire to move and have fun.
URL;VALUE=URI:https://www.healingwithinacupuncture.com/events/tradtional
 -bulgarian-line-dance/
UID:urn:uuid:3429b040-aa31-4416-b81d-b3661bfe2af4
STATUS:CONFIRMED
ORGANIZER:
DTSTAMP:20260423T180810Z
DTSTART;TZID=America/Chicago:20260111T140000
DTEND;TZID=America/Chicago:20260111T150000
END:VEVENT
END:VCALENDAR