BEGIN:VCALENDAR
METHOD:PUBLISH
VERSION:2.0
CALSCALE:GREGORIAN
PRODID:-//NONSGML WPForms//NONSGML Sugar Calendar Feeds v3.11.0//EN
X-WR-CALNAME:World Tai Chi/Qi Gong Day-Stillwater
X-WR-CALDESC:Healing Within Acupuncture &amp\; Wellness Studio
X-WR-TIMEZONE:America/Chicago
BEGIN:VTIMEZONE
TZID:America/Chicago
BEGIN:STANDARD
TZOFFSETFROM:-0500
TZOFFSETTO:-0600
DTSTART:20251102T070000
TZNAME:CST
END:STANDARD
BEGIN:DAYLIGHT
TZOFFSETFROM:-0600
TZOFFSETTO:-0500
DTSTART:20260308T080000
TZNAME:CDT
END:DAYLIGHT
END:VTIMEZONE
BEGIN:VTIMEZONE
TZID:America/Chicago
BEGIN:STANDARD
TZOFFSETFROM:-0500
TZOFFSETTO:-0600
DTSTART:20251102T070000
TZNAME:CST
END:STANDARD
BEGIN:DAYLIGHT
TZOFFSETFROM:-0600
TZOFFSETTO:-0500
DTSTART:20260308T080000
TZNAME:CDT
END:DAYLIGHT
END:VTIMEZONE
BEGIN:VEVENT
SUMMARY:World Tai Chi/Qi Gong Day-Stillwater
DESCRIPTION:Join us for this free\, family-friendly annual event! We'll 
 gather on the terrace of the Stillwater Public Library with several area
  tai chi/qi gong instructors to join in a global moving meditation pract
 ice for peace and unity.\n\nThis year\, $2 of every 2026 T-shirt sold wi
 ll be donated to International Institute of Minnesota\, a St. Paul 501c3
  nonprofit organization that provides outreach\, training\, and support 
 for new immigrants and refugees in Minnesota.\n\n\n\nThe 2026 World Tai 
 Chi/QiGong Day-Stillwater T-shirt\, designed by tai chi instructor and e
 quine &amp\; sport artist William Ersland (williamersland.com)\, also su
 pports this event\, which is the largest tai chi/qigong community gather
 ing in the St. Croix Valley. Check out our Facebook event here: World Ta
 i Chi/Qi Gong Day - Stillwater\n\n \n\nThese 100 percent cotton shirts c
 ome in traditional unisex or fitted women’s styles in XS to XL $25 and
  2XL - 3XL $28. T-shirts will not be sold during the event. To order\, e
 mail hello@healingwithinacupuncture.com.
URL;VALUE=URI:https://www.healingwithinacupuncture.com/events/world-tai-
 chi-day-stillwater/
UID:urn:uuid:2e7288c8-2ad3-4b08-abad-51e0ea20d153
STATUS:CONFIRMED
ORGANIZER:
DTSTAMP:20260423T140406Z
DTSTART;TZID=America/Chicago:20260425T103000
DTEND;TZID=America/Chicago:20260425T120000
END:VEVENT
END:VCALENDAR