BEGIN:VCALENDAR
METHOD:PUBLISH
VERSION:2.0
CALSCALE:GREGORIAN
PRODID:-//NONSGML WPForms//NONSGML Sugar Calendar Feeds v3.11.0//EN
X-WR-CALNAME:Yin Yoga/Moon practice
X-WR-CALDESC:Healing Within Acupuncture &amp\; Wellness Studio
X-WR-TIMEZONE:America/Chicago
BEGIN:VTIMEZONE
TZID:America/Chicago
BEGIN:STANDARD
TZOFFSETFROM:-0500
TZOFFSETTO:-0600
DTSTART:20251102T070000
TZNAME:CST
END:STANDARD
BEGIN:DAYLIGHT
TZOFFSETFROM:-0600
TZOFFSETTO:-0500
DTSTART:20260308T080000
TZNAME:CDT
END:DAYLIGHT
END:VTIMEZONE
BEGIN:VTIMEZONE
TZID:America/Chicago
BEGIN:STANDARD
TZOFFSETFROM:-0500
TZOFFSETTO:-0600
DTSTART:20251102T070000
TZNAME:CST
END:STANDARD
BEGIN:DAYLIGHT
TZOFFSETFROM:-0600
TZOFFSETTO:-0500
DTSTART:20260308T080000
TZNAME:CDT
END:DAYLIGHT
END:VTIMEZONE
BEGIN:VEVENT
SUMMARY:Yin Yoga/Moon practice
DESCRIPTION:REGISTER HERE | Instructor: Marilyn Calver | Mixed levels: Y
 in yoga works to provide flexibility within the connective tissues throu
 gh passive stretches held for several minutes at a time. This monthly mo
 on practice meets you where you are.
URL;VALUE=URI:https://www.healingwithinacupuncture.com/events/yin-yoga-m
 oon-practice-2/
UID:urn:uuid:5261f3ef-4069-46b7-832b-56c05c93faf8
STATUS:CONFIRMED
ORGANIZER:
DTSTAMP:20260423T164220Z
DTSTART;TZID=America/Chicago:20260414T173000
DTEND;TZID=America/Chicago:20260414T184500
END:VEVENT
END:VCALENDAR