BEGIN:VCALENDAR
METHOD:PUBLISH
VERSION:2.0
CALSCALE:GREGORIAN
PRODID:-//NONSGML WPForms//NONSGML Sugar Calendar Feeds v3.11.0//EN
X-WR-CALNAME:Yoga in Bloom: Breast Cancer Awareness event
X-WR-CALDESC:Healing Within Acupuncture &amp\; Wellness Studio
X-WR-TIMEZONE:America/Chicago
BEGIN:VTIMEZONE
TZID:America/Chicago
BEGIN:DAYLIGHT
TZOFFSETFROM:-0500
TZOFFSETTO:-0500
DTSTART:20250429T050000
TZNAME:CDT
END:DAYLIGHT
END:VTIMEZONE
BEGIN:VTIMEZONE
TZID:America/Chicago
BEGIN:DAYLIGHT
TZOFFSETFROM:-0500
TZOFFSETTO:-0500
DTSTART:20250429T050000
TZNAME:CDT
END:DAYLIGHT
END:VTIMEZONE
BEGIN:VEVENT
SUMMARY:Yoga in Bloom: Breast Cancer Awareness event
DESCRIPTION:Join Liz\, our Yoga 4 Cancer instructor\, at Two Bees &amp
 \; A Bud Flower Farm in New Richmond\, Wis.\, on Tuesday\, Oct. 28\, f
 rom 5-7:pm. Fee is $50\, 20 percent of which goes to the Breast Cance
 r Research Foundation.
URL;VALUE=URI:https://www.healingwithinacupuncture.com/events/yoga-in-bl
 oom-breast-cancer-awareness-event/
UID:urn:uuid:e0bf6a59-0d7d-4d41-9fd2-480a728f76a7
STATUS:CONFIRMED
ORGANIZER:
DTSTAMP:20260424T005225Z
DTSTART;TZID=America/Chicago:20251028T170000
DTEND;TZID=America/Chicago:20251028T190000
END:VEVENT
END:VCALENDAR