BEGIN:VCALENDAR
METHOD:PUBLISH
VERSION:2.0
CALSCALE:GREGORIAN
PRODID:-//NONSGML WPForms//NONSGML Sugar Calendar Feeds v3.11.0//EN
X-WR-CALNAME:ON HIATUS: Hybrid Yoga4Cancer
X-WR-CALDESC:Healing Within Acupuncture &amp\; Wellness Studio
X-WR-TIMEZONE:America/Chicago
BEGIN:VTIMEZONE
TZID:America/Chicago
BEGIN:STANDARD
TZOFFSETFROM:-0500
TZOFFSETTO:-0600
DTSTART:20251102T070000
TZNAME:CST
END:STANDARD
END:VTIMEZONE
BEGIN:VTIMEZONE
TZID:America/Chicago
BEGIN:STANDARD
TZOFFSETFROM:-0500
TZOFFSETTO:-0600
DTSTART:20251102T070000
TZNAME:CST
END:STANDARD
END:VTIMEZONE
BEGIN:VEVENT
SUMMARY:ON HIATUS: Hybrid Yoga4Cancer
DESCRIPTION:REGISTER HERE | Hybrid class: in-studio or Zoom | Instructor
 : Liz Stoeckmann | Gentle and accessible research-based oncology yoga fo
 r those going through cancer treatment\, cancer survivors\, those in pal
 liative care\, and their caregivers led by Yoga4cancer-certified instruc
 tor Liz Stoeckmann\, who is also a breast cancer survivor. Yoga4cancer c
 lasses help cancer patients and survivors maintain a strong immune syste
 m\, build strength and flexibility\, reduce cancer-related fatigue\, imp
 rove sleep and reduce anxiety\, manage treatment side effects\, create s
 elf confidence\, cultivate hope and a sense of well-being\, support long
 -term health goals\, and foster community. For more information\, call L
 iz at 608-216-6556 or email hello@healingwithinacupuncture.com. 2nd &amp
 \; 4th Sundays monthly.
URL;VALUE=URI:https://www.healingwithinacupuncture.com/events/yoga4cance
 r-2/
UID:urn:uuid:e6377c63-602b-4460-bac2-06030c24b1aa
STATUS:CONFIRMED
ORGANIZER:
DTSTAMP:20260423T205128Z
DTSTART;TZID=America/Chicago:20260208T160000
DTEND;TZID=America/Chicago:20260208T170000
END:VEVENT
END:VCALENDAR